BEGIN:VCALENDAR
VERSION:2.0
PRODID:-//Still Standing Elton John Tribute - ECPv6.15.20//NONSGML v1.0//EN
CALSCALE:GREGORIAN
METHOD:PUBLISH
X-WR-CALNAME:Still Standing Elton John Tribute
X-ORIGINAL-URL:https://stillstandingeltonjohntribute.com
X-WR-CALDESC:Events for Still Standing Elton John Tribute
REFRESH-INTERVAL;VALUE=DURATION:PT1H
X-Robots-Tag:noindex
X-PUBLISHED-TTL:PT1H
BEGIN:VTIMEZONE
TZID:America/New_York
BEGIN:DAYLIGHT
TZOFFSETFROM:-0500
TZOFFSETTO:-0400
TZNAME:EDT
DTSTART:20230312T070000
END:DAYLIGHT
BEGIN:STANDARD
TZOFFSETFROM:-0400
TZOFFSETTO:-0500
TZNAME:EST
DTSTART:20231105T060000
END:STANDARD
BEGIN:DAYLIGHT
TZOFFSETFROM:-0500
TZOFFSETTO:-0400
TZNAME:EDT
DTSTART:20240310T070000
END:DAYLIGHT
BEGIN:STANDARD
TZOFFSETFROM:-0400
TZOFFSETTO:-0500
TZNAME:EST
DTSTART:20241103T060000
END:STANDARD
BEGIN:DAYLIGHT
TZOFFSETFROM:-0500
TZOFFSETTO:-0400
TZNAME:EDT
DTSTART:20250309T070000
END:DAYLIGHT
BEGIN:STANDARD
TZOFFSETFROM:-0400
TZOFFSETTO:-0500
TZNAME:EST
DTSTART:20251102T060000
END:STANDARD
BEGIN:DAYLIGHT
TZOFFSETFROM:-0500
TZOFFSETTO:-0400
TZNAME:EDT
DTSTART:20260308T070000
END:DAYLIGHT
BEGIN:STANDARD
TZOFFSETFROM:-0400
TZOFFSETTO:-0500
TZNAME:EST
DTSTART:20261101T060000
END:STANDARD
END:VTIMEZONE
BEGIN:VTIMEZONE
TZID:America/Chicago
BEGIN:DAYLIGHT
TZOFFSETFROM:-0600
TZOFFSETTO:-0500
TZNAME:CDT
DTSTART:20230312T080000
END:DAYLIGHT
BEGIN:STANDARD
TZOFFSETFROM:-0500
TZOFFSETTO:-0600
TZNAME:CST
DTSTART:20231105T070000
END:STANDARD
BEGIN:DAYLIGHT
TZOFFSETFROM:-0600
TZOFFSETTO:-0500
TZNAME:CDT
DTSTART:20240310T080000
END:DAYLIGHT
BEGIN:STANDARD
TZOFFSETFROM:-0500
TZOFFSETTO:-0600
TZNAME:CST
DTSTART:20241103T070000
END:STANDARD
BEGIN:DAYLIGHT
TZOFFSETFROM:-0600
TZOFFSETTO:-0500
TZNAME:CDT
DTSTART:20250309T080000
END:DAYLIGHT
BEGIN:STANDARD
TZOFFSETFROM:-0500
TZOFFSETTO:-0600
TZNAME:CST
DTSTART:20251102T070000
END:STANDARD
BEGIN:DAYLIGHT
TZOFFSETFROM:-0600
TZOFFSETTO:-0500
TZNAME:CDT
DTSTART:20260308T080000
END:DAYLIGHT
BEGIN:STANDARD
TZOFFSETFROM:-0500
TZOFFSETTO:-0600
TZNAME:CST
DTSTART:20261101T070000
END:STANDARD
END:VTIMEZONE
BEGIN:VTIMEZONE
TZID:UTC
BEGIN:STANDARD
TZOFFSETFROM:+0000
TZOFFSETTO:+0000
TZNAME:UTC
DTSTART:20230101T000000
END:STANDARD
END:VTIMEZONE
BEGIN:VEVENT
DTSTART;TZID=America/New_York:20250320T200000
DTEND;TZID=America/New_York:20250320T230000
DTSTAMP:20260425T212252
CREATED:20250104T231504Z
LAST-MODIFIED:20250104T231537Z
UID:10000233-1742500800-1742511600@stillstandingeltonjohntribute.com
SUMMARY:Double Roads Tavern
DESCRIPTION:Doors 7PM  Show 8-11PM
URL:https://stillstandingeltonjohntribute.com/calendar/double-roads-tavern/
LOCATION:Double Roads Tavern\, 103 US Hwy 1\, Jupiter\, FL\, 33458\, United States
CATEGORIES:Florida
ATTACH;FMTTYPE=image/png:https://stillstandingeltonjohntribute.com/wp-content/uploads/2025/01/Double-Roads-900-x-600-px.png
END:VEVENT
BEGIN:VEVENT
DTSTART;TZID=America/New_York:20250308T190000
DTEND;TZID=America/New_York:20250308T213000
DTSTAMP:20260425T212252
CREATED:20240714T183242Z
LAST-MODIFIED:20250227T042305Z
UID:10000217-1741460400-1741469400@stillstandingeltonjohntribute.com
SUMMARY:Richey Suncoast Theatre
DESCRIPTION:Show 7:00 PM\nMarch 8\, 2025\nStill Standing A Tribute to Elton John \nBACK BY POPULAR DEMAND!\nExperience the magic of Elton John’s music live on stage with Still Standing: A Tribute to Elton John. \nBased on the Panhandle Gulf Coast of Florida\, this stellar tribute band has captivated audiences across the Southeast\, Southwest\, Mid-Atlantic\, and Mid-Western states with electrifying performances. \nBuy Tickets Online\nhttps://ci.ovationtix.com/36105/production/1203636?performanceId=11480042\nBox Office (727) 842-6777\n \nFLOOR LAYOUT EXAMPLE \n \nRichey Suncoast Theatre is a historic former movie theatre built in 1925 and later restored for use as a playhouse and community theatre in New Port Richey\, Florida. It is named for silent film star Thomas Meighan and opened as the Meighan Theatre on July 1\, 1926 with a screening of Meighan’s movie The New Klondike. Meighan himself was not present but sent a congratulatory telegram.In 1930 sound was added to the theatre. Meighan himself appeared to push the start button for the sound. The theatre closed in 1934 due to the Great Depression. It reopened in 1938 under the name The New Port Richey Theatre.
URL:https://stillstandingeltonjohntribute.com/calendar/richey-suncoast-theatre-2/
LOCATION:Richey Suncoast Theatre\, 6237 Grand Blvd\,\, New Port Richey\, FL\, 34652\, United States
CATEGORIES:Florida
ATTACH;FMTTYPE=image/jpeg:https://stillstandingeltonjohntribute.com/wp-content/uploads/2023/12/richysuncoast.jpg
END:VEVENT
BEGIN:VEVENT
DTSTART;TZID=America/New_York:20250307T200000
DTEND;TZID=America/New_York:20250307T223000
DTSTAMP:20260425T212252
CREATED:20250104T223200Z
LAST-MODIFIED:20250227T035956Z
UID:10000232-1741377600-1741386600@stillstandingeltonjohntribute.com
SUMMARY:Buddha Live
DESCRIPTION:Buy Tickets Online – Click Here\n21 AND OVER\nSHOW 8-10:30 PM\nDOORS: 6:00 PM \nTICKETS: $10 to $25 AdvanceTICKETS: $20 to $40 DoorTABLE SEATING AVAILABLEDRINK AND DINING MENU \nStill Standing – A Tribute to Elton John has a legendary stage presence. It is like Sir Elton John himself performing. The band puts on a magnificent performance. You will be sure to hear your favorites. Plus Special Guests: The Soul Commission featuring Kathleen.\n\nFLOOR LAYOUT EXAMPLE
URL:https://stillstandingeltonjohntribute.com/calendar/buddha-live/
LOCATION:Buddha Live\, 12701 McGregor Blvd\, Fort Myers\, FL\, 33919\, United States
CATEGORIES:Florida
ATTACH;FMTTYPE=image/jpeg:https://stillstandingeltonjohntribute.com/wp-content/uploads/2024/07/buddha.jpg
END:VEVENT
BEGIN:VEVENT
DTSTART;TZID=America/Chicago:20250222T193000
DTEND;TZID=America/Chicago:20250222T213000
DTSTAMP:20260425T212252
CREATED:20240930T185048Z
LAST-MODIFIED:20241228T064430Z
UID:10000227-1740252600-1740259800@stillstandingeltonjohntribute.com
SUMMARY:Jake and Henry's
DESCRIPTION:Reserved table seating is limited…contact the venue in advance of the show!
URL:https://stillstandingeltonjohntribute.com/calendar/jake-and-henrys-2/
LOCATION:Jake and Henry’s\, 138 Miracle Strip Pkwy SE\, Fort Walton Beach\, FL\, 32548\, United States
CATEGORIES:Florida
ATTACH;FMTTYPE=image/jpeg:https://stillstandingeltonjohntribute.com/wp-content/uploads/2022/09/jakeandhenrys.jpg
END:VEVENT
BEGIN:VEVENT
DTSTART;TZID=UTC:20250215T190000
DTEND;TZID=UTC:20250215T210000
DTSTAMP:20260425T212252
CREATED:20240910T173500Z
LAST-MODIFIED:20240910T173506Z
UID:10000226-1739646000-1739653200@stillstandingeltonjohntribute.com
SUMMARY:Juana's Pagodas
DESCRIPTION:Doors 6 PM | Show 7-9PM \nTable reservations info to follow
URL:https://stillstandingeltonjohntribute.com/calendar/juanas-pagodas-4/
LOCATION:Juana’s Pagodas\, 1451 Navarre Causeway\, Navarre\, FL\, 32566\, United States
CATEGORIES:Florida
ATTACH;FMTTYPE=image/jpeg:https://stillstandingeltonjohntribute.com/wp-content/uploads/2023/11/juanspagodas-logo.jpg
END:VEVENT
BEGIN:VEVENT
DTSTART;TZID=America/Chicago:20250214T190000
DTEND;TZID=America/Chicago:20250214T210000
DTSTAMP:20260425T212252
CREATED:20240910T172808Z
LAST-MODIFIED:20240910T172814Z
UID:10000225-1739559600-1739566800@stillstandingeltonjohntribute.com
SUMMARY:Juana's Pagodas
DESCRIPTION:Doors 6 PM | Show 7-9PM \nTable reservations info to follow
URL:https://stillstandingeltonjohntribute.com/calendar/juanas-pagodas-3/
LOCATION:Juana’s Pagodas\, 1451 Navarre Causeway\, Navarre\, FL\, 32566\, United States
CATEGORIES:Florida
ATTACH;FMTTYPE=image/jpeg:https://stillstandingeltonjohntribute.com/wp-content/uploads/2023/11/juanspagodas-logo.jpg
END:VEVENT
BEGIN:VEVENT
DTSTART;TZID=America/New_York:20250208T200000
DTEND;TZID=America/New_York:20250208T213000
DTSTAMP:20260425T212252
CREATED:20240714T174548Z
LAST-MODIFIED:20240714T221430Z
UID:10000215-1739044800-1739050200@stillstandingeltonjohntribute.com
SUMMARY:Kings Point Palace Theatre
DESCRIPTION:Show 8:00-9:30PM
URL:https://stillstandingeltonjohntribute.com/calendar/kings-point-tamarac/
LOCATION:Kings Point Palace Theatre\, 7620 Nob Hill Road\, Tamarac\, FL\, 33321\, United States
CATEGORIES:Florida
ATTACH;FMTTYPE=image/jpeg:https://stillstandingeltonjohntribute.com/wp-content/uploads/2024/07/Kings-Point-Palace-Theatre.jpg
END:VEVENT
BEGIN:VEVENT
DTSTART;TZID=America/New_York:20250207T200000
DTEND;TZID=America/New_York:20250207T223000
DTSTAMP:20260425T212252
CREATED:20241001T005251Z
LAST-MODIFIED:20241001T005257Z
UID:10000228-1738958400-1738967400@stillstandingeltonjohntribute.com
SUMMARY:Galuppi's
DESCRIPTION:Show 8:15 – 10:45 PM
URL:https://stillstandingeltonjohntribute.com/calendar/galuppis/
LOCATION:Galuppi’s\, 1103 N Federal Hwy\, Pompano Beach\, FL\, FL\, 33062\, United States
CATEGORIES:Florida
ATTACH;FMTTYPE=image/png:https://stillstandingeltonjohntribute.com/wp-content/uploads/2024/10/Galuppi-900-x-600-px.png
END:VEVENT
BEGIN:VEVENT
DTSTART;TZID=America/New_York:20250124T210000
DTEND;TZID=America/New_York:20250124T230000
DTSTAMP:20260425T212252
CREATED:20241210T004323Z
LAST-MODIFIED:20250113T181854Z
UID:10000230-1737752400-1737759600@stillstandingeltonjohntribute.com
SUMMARY:House of Blues Orlando
DESCRIPTION:Doors 7:30 PM | Show 9-11 PM
URL:https://stillstandingeltonjohntribute.com/calendar/house-of-blues-orlando-2/
LOCATION:House of Blues Orlando\, 1490 E Buena Vista\, Orlando\, FL\, 32830\, United States
CATEGORIES:Florida
ATTACH;FMTTYPE=image/jpeg:https://stillstandingeltonjohntribute.com/wp-content/uploads/2023/12/House-of-Blues.jpg
END:VEVENT
BEGIN:VEVENT
DTSTART;TZID=America/Chicago:20241215T183000
DTEND;TZID=America/Chicago:20241215T210000
DTSTAMP:20260425T212252
CREATED:20240814T121432Z
LAST-MODIFIED:20241211T002401Z
UID:10000212-1734287400-1734296400@stillstandingeltonjohntribute.com
SUMMARY:Old Florida Fish House
DESCRIPTION:Special Sunday Dinner show.  Doors 5PM | Show 6:30
URL:https://stillstandingeltonjohntribute.com/calendar/old-florida-fish-house-4/
LOCATION:Old Florida Fish House\, 33 Herons Watch Way\, Santa Rosa Beach\, FL\, 32549\, United States
CATEGORIES:Florida
ATTACH;FMTTYPE=image/jpeg:https://stillstandingeltonjohntribute.com/wp-content/uploads/2022/08/offh.jpg
END:VEVENT
BEGIN:VEVENT
DTSTART;TZID=UTC:20241115T080000
DTEND;TZID=UTC:20241115T170000
DTSTAMP:20260425T212252
CREATED:20240703T032821Z
LAST-MODIFIED:20240703T032948Z
UID:10000213-1731657600-1731690000@stillstandingeltonjohntribute.com
SUMMARY:Jake & Henry's
DESCRIPTION:Doors 6PM | Show 7:30-9:30 PM
URL:https://stillstandingeltonjohntribute.com/calendar/jake-henrys-9/
LOCATION:Jake and Henry’s\, 138 Miracle Strip Pkwy SE\, Fort Walton Beach\, FL\, 32548\, United States
CATEGORIES:Florida
ATTACH;FMTTYPE=image/jpeg:https://stillstandingeltonjohntribute.com/wp-content/uploads/2022/09/jakeandhenrys.jpg
END:VEVENT
BEGIN:VEVENT
DTSTART;TZID=America/Chicago:20241110T190000
DTEND;TZID=America/Chicago:20241110T190000
DTSTAMP:20260425T212252
CREATED:20240903T230753Z
LAST-MODIFIED:20240903T231701Z
UID:10000224-1731265200-1731265200@stillstandingeltonjohntribute.com
SUMMARY:Old Florida Fish House
DESCRIPTION:Just Announced!  Sunday Matinee dinner show…
URL:https://stillstandingeltonjohntribute.com/calendar/old-florida-fish-house-5/
LOCATION:Old Florida Fish House\, 33 Herons Watch Way\, Santa Rosa Beach\, FL\, 32549\, United States
CATEGORIES:Florida
ATTACH;FMTTYPE=image/jpeg:https://stillstandingeltonjohntribute.com/wp-content/uploads/2022/08/offh.jpg
END:VEVENT
BEGIN:VEVENT
DTSTART;TZID=UTC:20241101T210000
DTEND;TZID=UTC:20241101T223000
DTSTAMP:20260425T212252
CREATED:20240822T235111Z
LAST-MODIFIED:20240822T235114Z
UID:10000223-1730494800-1730500200@stillstandingeltonjohntribute.com
SUMMARY:Gold Strike Casino Resort - Tunica
DESCRIPTION:Two Shows\nFirst Show:  7 – 8:30 pm \nSecond Show: 9 – 10:30 pm
URL:https://stillstandingeltonjohntribute.com/calendar/gold-strike-casino-resort-tunica/
LOCATION:Gold Strike Casino Resort\, 1010 Casino Center Dr.\, Tunica Resorts\, MS\, 38664\, United States
CATEGORIES:Mississippi
ATTACH;FMTTYPE=image/jpeg:https://stillstandingeltonjohntribute.com/wp-content/uploads/2024/08/Gold-Strike-Casino.jpg
END:VEVENT
BEGIN:VEVENT
DTSTART;TZID=America/Chicago:20241025T180000
DTEND;TZID=America/Chicago:20241025T200000
DTSTAMP:20260425T212252
CREATED:20240302T194252Z
LAST-MODIFIED:20240412T173653Z
UID:10000190-1729879200-1729886400@stillstandingeltonjohntribute.com
SUMMARY:Concerts at the Landing
DESCRIPTION:
URL:https://stillstandingeltonjohntribute.com/calendar/concerts-at-the-landing/
LOCATION:Concerts at the Landing\, 139 Brooks Street SE\, Fort Walton Beach\, FL\, 32548\, United States
CATEGORIES:Florida
ATTACH;FMTTYPE=image/jpeg:https://stillstandingeltonjohntribute.com/wp-content/uploads/2024/03/Concerts-at-the-Landing.jpg
END:VEVENT
BEGIN:VEVENT
DTSTART;TZID=America/New_York:20241018T200000
DTEND;TZID=America/New_York:20241018T220000
DTSTAMP:20260425T212252
CREATED:20240416T212502Z
LAST-MODIFIED:20240516T143757Z
UID:10000198-1729281600-1729288800@stillstandingeltonjohntribute.com
SUMMARY:Griffin Opera House
DESCRIPTION:Doors 7PM | Showtime 8-10PM
URL:https://stillstandingeltonjohntribute.com/calendar/griffin-opera-house-2/
LOCATION:Griffin Opera House\, 102 North Hill Street\, Griffin\, GA\, GA\, 30223\, United States
CATEGORIES:Georgia
ATTACH;FMTTYPE=image/jpeg:https://stillstandingeltonjohntribute.com/wp-content/uploads/2023/10/Griffin-Opera-House-900600-2.jpg
END:VEVENT
BEGIN:VEVENT
DTSTART;TZID=America/Chicago:20241012T180000
DTEND;TZID=America/Chicago:20241012T193000
DTSTAMP:20260425T212252
CREATED:20240605T171436Z
LAST-MODIFIED:20240910T173804Z
UID:10000206-1728756000-1728761400@stillstandingeltonjohntribute.com
SUMMARY:Gulf Shores National Seafood Festival
DESCRIPTION:Showtime 6PM  Plan to arrive early enough to park and enjoy the festival prior to the show!
URL:https://stillstandingeltonjohntribute.com/calendar/gulf-coast-national-seafood-festival/
LOCATION:Gulf Shores National Seafood Festival\, 101 Gulf Shores Pkwy.\, Gulf Shores\, Alabama\, 36542\, United States
CATEGORIES:Alabama
ATTACH;FMTTYPE=image/jpeg:https://stillstandingeltonjohntribute.com/wp-content/uploads/2024/05/Gulf-Coast-Shrimp-Festival.jpg
END:VEVENT
BEGIN:VEVENT
DTSTART;TZID=America/Chicago:20241005T200000
DTEND;TZID=America/Chicago:20241005T220000
DTSTAMP:20260425T212252
CREATED:20240729T191103Z
LAST-MODIFIED:20240729T191107Z
UID:10000219-1728158400-1728165600@stillstandingeltonjohntribute.com
SUMMARY:The Queen Casino Baton Rouge
DESCRIPTION:
URL:https://stillstandingeltonjohntribute.com/calendar/the-queen-casino-baton-rouge/
LOCATION:The Queen Casino\, 1717 River Park Blvd.\, Baton Rouge\, LA\, 70802\, United States
CATEGORIES:Louisiana
ATTACH;FMTTYPE=image/png:https://stillstandingeltonjohntribute.com/wp-content/uploads/2024/07/The-Queen-900-x-600-px-1.png
END:VEVENT
BEGIN:VEVENT
DTSTART;TZID=America/Chicago:20240927T190000
DTEND;TZID=America/Chicago:20240927T210000
DTSTAMP:20260425T212252
CREATED:20240811T174737Z
LAST-MODIFIED:20240811T174743Z
UID:10000221-1727463600-1727470800@stillstandingeltonjohntribute.com
SUMMARY:Backstage Pass at the Marina Lawn
DESCRIPTION:Where:7 Harrison Avenue\, Downtown Panama CityBetween Harrison’s Kitchen & Bar and Hotel Indigo\nFree to attend—Just bring a chair!\nShow 7-9PM
URL:https://stillstandingeltonjohntribute.com/calendar/backstage-pass-at-the-marina-lawn/
LOCATION:Backstage Pass at the Marina Lawn\, 7 Harrison Avenue\, Panama City\, FL\, 32501\, United States
CATEGORIES:Florida
ATTACH;FMTTYPE=image/png:https://stillstandingeltonjohntribute.com/wp-content/uploads/2024/08/Backstage-24-900-x-600-px.png
END:VEVENT
BEGIN:VEVENT
DTSTART;TZID=America/New_York:20240921T201500
DTEND;TZID=America/New_York:20240921T214500
DTSTAMP:20260425T212252
CREATED:20250315T213214Z
LAST-MODIFIED:20241021T232333Z
UID:10000229-1726949700-1726955100@stillstandingeltonjohntribute.com
SUMMARY:The Casino at Dania Beach Stage 954
DESCRIPTION:Doors 7:30 | Show 8:15-9:45 PM
URL:https://stillstandingeltonjohntribute.com/calendar/the-casino-at-dania-beach-stage-954-2/
LOCATION:Dania Casino Stage 954\, 301 Dania Beach Blvd\, Dania Beach\, FL\, 33004\, United States
CATEGORIES:Florida
ATTACH;FMTTYPE=image/jpeg:https://stillstandingeltonjohntribute.com/wp-content/uploads/2024/06/Daniabeachweb.jpg
END:VEVENT
BEGIN:VEVENT
DTSTART;TZID=America/New_York:20240915T150000
DTEND;TZID=America/New_York:20240915T170000
DTSTAMP:20260425T212252
CREATED:20240703T031239Z
LAST-MODIFIED:20240703T033320Z
UID:10000211-1726412400-1726419600@stillstandingeltonjohntribute.com
SUMMARY:Z's Music Kitchen presents a Sunday Matinee performance by Still Standing a Tribute to Elton John
DESCRIPTION:Doors 2PM / Show 3-5PM
URL:https://stillstandingeltonjohntribute.com/calendar/zs-music-kitchen-presents-a-second-sunday-matinee-performance-by-still-standing-a-tribute-to-elton-john/
LOCATION:Z’s Music Kitchen\, 12655 Tamiami Trail E\, Naples\, FL\, 34113\, United States
CATEGORIES:Florida
ATTACH;FMTTYPE=image/jpeg:https://stillstandingeltonjohntribute.com/wp-content/uploads/2024/06/Zs-Kitchen.jpg
END:VEVENT
BEGIN:VEVENT
DTSTART;TZID=America/New_York:20240914T190000
DTEND;TZID=America/New_York:20240914T210000
DTSTAMP:20260425T212252
CREATED:20240703T025946Z
LAST-MODIFIED:20240703T030527Z
UID:10000210-1726340400-1726347600@stillstandingeltonjohntribute.com
SUMMARY:Z's Music Kitchen presents "Still Standing a Tribute to Elton John"
DESCRIPTION:Doors 6PM | Show 7-9PM
URL:https://stillstandingeltonjohntribute.com/calendar/zs-music-kitchen-presents-still-standing-a-tribute-to-elton-john/
LOCATION:Z’s Music Kitchen\, 12655 Tamiami Trail E\, Naples\, FL\, 34113\, United States
CATEGORIES:Florida
ATTACH;FMTTYPE=image/jpeg:https://stillstandingeltonjohntribute.com/wp-content/uploads/2024/06/Zs-Kitchen.jpg
END:VEVENT
BEGIN:VEVENT
DTSTART;TZID=America/New_York:20240913T200000
DTEND;TZID=America/New_York:20240913T220000
DTSTAMP:20260425T212252
CREATED:20240712T031502Z
LAST-MODIFIED:20240712T041615Z
UID:10000214-1726257600-1726264800@stillstandingeltonjohntribute.com
SUMMARY:Buddah Live
DESCRIPTION:Show 8-10PM
URL:https://stillstandingeltonjohntribute.com/calendar/buddah-live/
LOCATION:Buddha Live\, 12701 McGregor Blvd\, Fort Myers\, FL\, 33919\, United States
CATEGORIES:Florida
ATTACH;FMTTYPE=image/jpeg:https://stillstandingeltonjohntribute.com/wp-content/uploads/2024/07/buddha.jpg
END:VEVENT
BEGIN:VEVENT
DTSTART;TZID=America/Chicago:20240912T200000
DTEND;TZID=America/Chicago:20240912T220000
DTSTAMP:20260425T212252
CREATED:20240517T185344Z
LAST-MODIFIED:20240517T185351Z
UID:10000205-1726171200-1726178400@stillstandingeltonjohntribute.com
SUMMARY:Legacy at the Riverfront
DESCRIPTION:Doors 7PM | Show 8-10PM
URL:https://stillstandingeltonjohntribute.com/calendar/legacy-at-the-riverfront/
LOCATION:Legacy at the Riverfront\, 9330 W Tennessee St.\, Tallahassee\, FL\, 32304\, United States
CATEGORIES:Florida
ATTACH;FMTTYPE=image/jpeg:https://stillstandingeltonjohntribute.com/wp-content/uploads/2024/02/Legacy.jpg
END:VEVENT
BEGIN:VEVENT
DTSTART;TZID=America/New_York:20240907T190000
DTEND;TZID=America/New_York:20240907T203000
DTSTAMP:20260425T212252
CREATED:20240416T194205Z
LAST-MODIFIED:20240506T230517Z
UID:10000197-1725735600-1725741000@stillstandingeltonjohntribute.com
SUMMARY:Waynesboro-Burke Concert Series
DESCRIPTION:Doors open 6:30 PM | Showtime 7 PM
URL:https://stillstandingeltonjohntribute.com/calendar/waynesboro-burke-concert-series/
LOCATION:Waynesboro-Burke Concert Series\, 715 West 6th Street\, Waynesboro\, GA\, 30830\, United States
CATEGORIES:Georgia
ATTACH;FMTTYPE=image/jpeg:https://stillstandingeltonjohntribute.com/wp-content/uploads/2024/05/Waynesboro-Burke-Concert-Series.jpg
END:VEVENT
BEGIN:VEVENT
DTSTART;TZID=America/Chicago:20240831T203000
DTEND;TZID=America/Chicago:20240831T223000
DTSTAMP:20260425T212252
CREATED:20240513T031037Z
LAST-MODIFIED:20240516T144012Z
UID:10000202-1725136200-1725143400@stillstandingeltonjohntribute.com
SUMMARY:Southport Hall
DESCRIPTION:Doors at 7PM | Show 8:30-10:30PM
URL:https://stillstandingeltonjohntribute.com/calendar/southport-hall-3/
LOCATION:Southport Hall\, 200 Monticello Ave\, Jefferson\, LA\, 70121\, United States
CATEGORIES:Louisiana
ATTACH;FMTTYPE=image/jpeg:https://stillstandingeltonjohntribute.com/wp-content/uploads/2023/10/Southport-Hall-900600.jpg
END:VEVENT
BEGIN:VEVENT
DTSTART;TZID=America/Chicago:20240830T200000
DTEND;TZID=America/Chicago:20240830T220000
DTSTAMP:20260425T212252
CREATED:20240513T030304Z
LAST-MODIFIED:20240513T161320Z
UID:10000201-1725048000-1725055200@stillstandingeltonjohntribute.com
SUMMARY:The WaterView Casino
DESCRIPTION:Show 8-10 PM
URL:https://stillstandingeltonjohntribute.com/calendar/the-waterview-casino/
LOCATION:WaterView Casino\, 3990 Washington Street\, Vicksburg\, MS\, 39180\, United States
CATEGORIES:Mississippi
ATTACH;FMTTYPE=image/jpeg:https://stillstandingeltonjohntribute.com/wp-content/uploads/2024/05/Waterview-Casino-and-Hotel.jpg
END:VEVENT
BEGIN:VEVENT
DTSTART;TZID=America/New_York:20240825T150000
DTEND;TZID=America/New_York:20240825T170000
DTSTAMP:20260425T212252
CREATED:20240514T232312Z
LAST-MODIFIED:20240516T144111Z
UID:10000203-1724598000-1724605200@stillstandingeltonjohntribute.com
SUMMARY:The Ritz Theatre
DESCRIPTION:Doors 2PM | Show 3-5PM
URL:https://stillstandingeltonjohntribute.com/calendar/the-ritz-theatre/
LOCATION:Ritz Theatre Brunswick\, 1530 Newcastle Street\, Brunswick\, GA\, 31520\, United States
CATEGORIES:Georgia
ATTACH;FMTTYPE=image/jpeg:https://stillstandingeltonjohntribute.com/wp-content/uploads/2024/05/Ritz_Brunswick.jpg
END:VEVENT
BEGIN:VEVENT
DTSTART;TZID=America/New_York:20240823T200000
DTEND;TZID=America/New_York:20240823T220000
DTSTAMP:20260425T212252
CREATED:20240624T185005Z
LAST-MODIFIED:20240714T214020Z
UID:10000209-1724443200-1724450400@stillstandingeltonjohntribute.com
SUMMARY:The "Fillin" Station Beaufort\, SC
DESCRIPTION:Show 8-10PM
URL:https://stillstandingeltonjohntribute.com/calendar/the-fillin-station-beaufort-sc/
LOCATION:The “Fillin” Station\, 57 Sea Island Pkwy\, Beaufort\, SC\, 29907\, United States
CATEGORIES:South Carolina
ATTACH;FMTTYPE=image/png:https://stillstandingeltonjohntribute.com/wp-content/uploads/2024/06/Fillin-Station-900-x-600-px-1.png
END:VEVENT
BEGIN:VEVENT
DTSTART;TZID=America/Chicago:20240817T190000
DTEND;TZID=America/Chicago:20240817T210000
DTSTAMP:20260425T212252
CREATED:20240311T230355Z
LAST-MODIFIED:20240519T225201Z
UID:10000193-1723921200-1723928400@stillstandingeltonjohntribute.com
SUMMARY:Georgiana Opry House
DESCRIPTION:Doors Open at 6 PM \nShowtime 7 – 9 PM \nPURCHASE TICKETS ONLINE\nhttps://www.georgianaopryhouse.com/event-details-registration/still-standing-elton-john-tribute \nTickets $20 (+ $.50 service fee)
URL:https://stillstandingeltonjohntribute.com/calendar/georgian-opry-house-presents-still-standing-a-tribute-to-elton-john/
LOCATION:Georgiana Opry House\, 602 E. Railroad Ave\, Georgiana\, AL\, 36033\, United States
CATEGORIES:Alabama
ATTACH;FMTTYPE=image/jpeg:https://stillstandingeltonjohntribute.com/wp-content/uploads/2024/03/Georgiana-Opry-House.jpg
END:VEVENT
BEGIN:VEVENT
DTSTART;TZID=America/New_York:20240816T200000
DTEND;TZID=America/New_York:20240816T220000
DTSTAMP:20260425T212252
CREATED:20240311T211543Z
LAST-MODIFIED:20240516T144306Z
UID:10000192-1723838400-1723845600@stillstandingeltonjohntribute.com
SUMMARY:Oconee Brewing Company presents the return of Still Standing a Tribute to Elton John
DESCRIPTION:
URL:https://stillstandingeltonjohntribute.com/calendar/oconee-brewing-company-presents-the-return-of-still-standing-a-tribute-to-elton-john/
LOCATION:Oconee Brewing Company\, 202 N. West Street\, Greensboro\, GA\, 30642\, United States
CATEGORIES:Georgia
ATTACH;FMTTYPE=image/jpeg:https://stillstandingeltonjohntribute.com/wp-content/uploads/2023/09/OCONNE.jpg
END:VEVENT
END:VCALENDAR