BEGIN:VCALENDAR
VERSION:2.0
PRODID:-//Still Standing Elton John Tribute - ECPv6.15.20//NONSGML v1.0//EN
CALSCALE:GREGORIAN
METHOD:PUBLISH
X-WR-CALNAME:Still Standing Elton John Tribute
X-ORIGINAL-URL:https://stillstandingeltonjohntribute.com
X-WR-CALDESC:Events for Still Standing Elton John Tribute
REFRESH-INTERVAL;VALUE=DURATION:PT1H
X-Robots-Tag:noindex
X-PUBLISHED-TTL:PT1H
BEGIN:VTIMEZONE
TZID:America/Chicago
BEGIN:DAYLIGHT
TZOFFSETFROM:-0600
TZOFFSETTO:-0500
TZNAME:CDT
DTSTART:20230312T080000
END:DAYLIGHT
BEGIN:STANDARD
TZOFFSETFROM:-0500
TZOFFSETTO:-0600
TZNAME:CST
DTSTART:20231105T070000
END:STANDARD
BEGIN:DAYLIGHT
TZOFFSETFROM:-0600
TZOFFSETTO:-0500
TZNAME:CDT
DTSTART:20240310T080000
END:DAYLIGHT
BEGIN:STANDARD
TZOFFSETFROM:-0500
TZOFFSETTO:-0600
TZNAME:CST
DTSTART:20241103T070000
END:STANDARD
BEGIN:DAYLIGHT
TZOFFSETFROM:-0600
TZOFFSETTO:-0500
TZNAME:CDT
DTSTART:20250309T080000
END:DAYLIGHT
BEGIN:STANDARD
TZOFFSETFROM:-0500
TZOFFSETTO:-0600
TZNAME:CST
DTSTART:20251102T070000
END:STANDARD
END:VTIMEZONE
BEGIN:VTIMEZONE
TZID:America/New_York
BEGIN:DAYLIGHT
TZOFFSETFROM:-0500
TZOFFSETTO:-0400
TZNAME:EDT
DTSTART:20230312T070000
END:DAYLIGHT
BEGIN:STANDARD
TZOFFSETFROM:-0400
TZOFFSETTO:-0500
TZNAME:EST
DTSTART:20231105T060000
END:STANDARD
BEGIN:DAYLIGHT
TZOFFSETFROM:-0500
TZOFFSETTO:-0400
TZNAME:EDT
DTSTART:20240310T070000
END:DAYLIGHT
BEGIN:STANDARD
TZOFFSETFROM:-0400
TZOFFSETTO:-0500
TZNAME:EST
DTSTART:20241103T060000
END:STANDARD
BEGIN:DAYLIGHT
TZOFFSETFROM:-0500
TZOFFSETTO:-0400
TZNAME:EDT
DTSTART:20250309T070000
END:DAYLIGHT
BEGIN:STANDARD
TZOFFSETFROM:-0400
TZOFFSETTO:-0500
TZNAME:EST
DTSTART:20251102T060000
END:STANDARD
END:VTIMEZONE
BEGIN:VTIMEZONE
TZID:UTC
BEGIN:STANDARD
TZOFFSETFROM:+0000
TZOFFSETTO:+0000
TZNAME:UTC
DTSTART:20230101T000000
END:STANDARD
END:VTIMEZONE
BEGIN:VEVENT
DTSTART;TZID=America/Chicago:20241005T200000
DTEND;TZID=America/Chicago:20241005T220000
DTSTAMP:20260425T225521
CREATED:20240729T191103Z
LAST-MODIFIED:20240729T191107Z
UID:10000219-1728158400-1728165600@stillstandingeltonjohntribute.com
SUMMARY:The Queen Casino Baton Rouge
DESCRIPTION:
URL:https://stillstandingeltonjohntribute.com/calendar/the-queen-casino-baton-rouge/
LOCATION:The Queen Casino\, 1717 River Park Blvd.\, Baton Rouge\, LA\, 70802\, United States
CATEGORIES:Louisiana
ATTACH;FMTTYPE=image/png:https://stillstandingeltonjohntribute.com/wp-content/uploads/2024/07/The-Queen-900-x-600-px-1.png
END:VEVENT
BEGIN:VEVENT
DTSTART;TZID=America/Chicago:20240927T190000
DTEND;TZID=America/Chicago:20240927T210000
DTSTAMP:20260425T225521
CREATED:20240811T174737Z
LAST-MODIFIED:20240811T174743Z
UID:10000221-1727463600-1727470800@stillstandingeltonjohntribute.com
SUMMARY:Backstage Pass at the Marina Lawn
DESCRIPTION:Where:7 Harrison Avenue\, Downtown Panama CityBetween Harrison’s Kitchen & Bar and Hotel Indigo\nFree to attend—Just bring a chair!\nShow 7-9PM
URL:https://stillstandingeltonjohntribute.com/calendar/backstage-pass-at-the-marina-lawn/
LOCATION:Backstage Pass at the Marina Lawn\, 7 Harrison Avenue\, Panama City\, FL\, 32501\, United States
CATEGORIES:Florida
ATTACH;FMTTYPE=image/png:https://stillstandingeltonjohntribute.com/wp-content/uploads/2024/08/Backstage-24-900-x-600-px.png
END:VEVENT
BEGIN:VEVENT
DTSTART;TZID=America/New_York:20240921T201500
DTEND;TZID=America/New_York:20240921T214500
DTSTAMP:20260425T225521
CREATED:20250315T213214Z
LAST-MODIFIED:20241021T232333Z
UID:10000229-1726949700-1726955100@stillstandingeltonjohntribute.com
SUMMARY:The Casino at Dania Beach Stage 954
DESCRIPTION:Doors 7:30 | Show 8:15-9:45 PM
URL:https://stillstandingeltonjohntribute.com/calendar/the-casino-at-dania-beach-stage-954-2/
LOCATION:Dania Casino Stage 954\, 301 Dania Beach Blvd\, Dania Beach\, FL\, 33004\, United States
CATEGORIES:Florida
ATTACH;FMTTYPE=image/jpeg:https://stillstandingeltonjohntribute.com/wp-content/uploads/2024/06/Daniabeachweb.jpg
END:VEVENT
BEGIN:VEVENT
DTSTART;TZID=America/New_York:20240915T150000
DTEND;TZID=America/New_York:20240915T170000
DTSTAMP:20260425T225521
CREATED:20240703T031239Z
LAST-MODIFIED:20240703T033320Z
UID:10000211-1726412400-1726419600@stillstandingeltonjohntribute.com
SUMMARY:Z's Music Kitchen presents a Sunday Matinee performance by Still Standing a Tribute to Elton John
DESCRIPTION:Doors 2PM / Show 3-5PM
URL:https://stillstandingeltonjohntribute.com/calendar/zs-music-kitchen-presents-a-second-sunday-matinee-performance-by-still-standing-a-tribute-to-elton-john/
LOCATION:Z’s Music Kitchen\, 12655 Tamiami Trail E\, Naples\, FL\, 34113\, United States
CATEGORIES:Florida
ATTACH;FMTTYPE=image/jpeg:https://stillstandingeltonjohntribute.com/wp-content/uploads/2024/06/Zs-Kitchen.jpg
END:VEVENT
BEGIN:VEVENT
DTSTART;TZID=America/New_York:20240914T190000
DTEND;TZID=America/New_York:20240914T210000
DTSTAMP:20260425T225521
CREATED:20240703T025946Z
LAST-MODIFIED:20240703T030527Z
UID:10000210-1726340400-1726347600@stillstandingeltonjohntribute.com
SUMMARY:Z's Music Kitchen presents "Still Standing a Tribute to Elton John"
DESCRIPTION:Doors 6PM | Show 7-9PM
URL:https://stillstandingeltonjohntribute.com/calendar/zs-music-kitchen-presents-still-standing-a-tribute-to-elton-john/
LOCATION:Z’s Music Kitchen\, 12655 Tamiami Trail E\, Naples\, FL\, 34113\, United States
CATEGORIES:Florida
ATTACH;FMTTYPE=image/jpeg:https://stillstandingeltonjohntribute.com/wp-content/uploads/2024/06/Zs-Kitchen.jpg
END:VEVENT
BEGIN:VEVENT
DTSTART;TZID=America/New_York:20240913T200000
DTEND;TZID=America/New_York:20240913T220000
DTSTAMP:20260425T225521
CREATED:20240712T031502Z
LAST-MODIFIED:20240712T041615Z
UID:10000214-1726257600-1726264800@stillstandingeltonjohntribute.com
SUMMARY:Buddah Live
DESCRIPTION:Show 8-10PM
URL:https://stillstandingeltonjohntribute.com/calendar/buddah-live/
LOCATION:Buddha Live\, 12701 McGregor Blvd\, Fort Myers\, FL\, 33919\, United States
CATEGORIES:Florida
ATTACH;FMTTYPE=image/jpeg:https://stillstandingeltonjohntribute.com/wp-content/uploads/2024/07/buddha.jpg
END:VEVENT
BEGIN:VEVENT
DTSTART;TZID=America/Chicago:20240912T200000
DTEND;TZID=America/Chicago:20240912T220000
DTSTAMP:20260425T225521
CREATED:20240517T185344Z
LAST-MODIFIED:20240517T185351Z
UID:10000205-1726171200-1726178400@stillstandingeltonjohntribute.com
SUMMARY:Legacy at the Riverfront
DESCRIPTION:Doors 7PM | Show 8-10PM
URL:https://stillstandingeltonjohntribute.com/calendar/legacy-at-the-riverfront/
LOCATION:Legacy at the Riverfront\, 9330 W Tennessee St.\, Tallahassee\, FL\, 32304\, United States
CATEGORIES:Florida
ATTACH;FMTTYPE=image/jpeg:https://stillstandingeltonjohntribute.com/wp-content/uploads/2024/02/Legacy.jpg
END:VEVENT
BEGIN:VEVENT
DTSTART;TZID=America/New_York:20240907T190000
DTEND;TZID=America/New_York:20240907T203000
DTSTAMP:20260425T225521
CREATED:20240416T194205Z
LAST-MODIFIED:20240506T230517Z
UID:10000197-1725735600-1725741000@stillstandingeltonjohntribute.com
SUMMARY:Waynesboro-Burke Concert Series
DESCRIPTION:Doors open 6:30 PM | Showtime 7 PM
URL:https://stillstandingeltonjohntribute.com/calendar/waynesboro-burke-concert-series/
LOCATION:Waynesboro-Burke Concert Series\, 715 West 6th Street\, Waynesboro\, GA\, 30830\, United States
CATEGORIES:Georgia
ATTACH;FMTTYPE=image/jpeg:https://stillstandingeltonjohntribute.com/wp-content/uploads/2024/05/Waynesboro-Burke-Concert-Series.jpg
END:VEVENT
BEGIN:VEVENT
DTSTART;TZID=America/Chicago:20240831T203000
DTEND;TZID=America/Chicago:20240831T223000
DTSTAMP:20260425T225521
CREATED:20240513T031037Z
LAST-MODIFIED:20240516T144012Z
UID:10000202-1725136200-1725143400@stillstandingeltonjohntribute.com
SUMMARY:Southport Hall
DESCRIPTION:Doors at 7PM | Show 8:30-10:30PM
URL:https://stillstandingeltonjohntribute.com/calendar/southport-hall-3/
LOCATION:Southport Hall\, 200 Monticello Ave\, Jefferson\, LA\, 70121\, United States
CATEGORIES:Louisiana
ATTACH;FMTTYPE=image/jpeg:https://stillstandingeltonjohntribute.com/wp-content/uploads/2023/10/Southport-Hall-900600.jpg
END:VEVENT
BEGIN:VEVENT
DTSTART;TZID=America/Chicago:20240830T200000
DTEND;TZID=America/Chicago:20240830T220000
DTSTAMP:20260425T225521
CREATED:20240513T030304Z
LAST-MODIFIED:20240513T161320Z
UID:10000201-1725048000-1725055200@stillstandingeltonjohntribute.com
SUMMARY:The WaterView Casino
DESCRIPTION:Show 8-10 PM
URL:https://stillstandingeltonjohntribute.com/calendar/the-waterview-casino/
LOCATION:WaterView Casino\, 3990 Washington Street\, Vicksburg\, MS\, 39180\, United States
CATEGORIES:Mississippi
ATTACH;FMTTYPE=image/jpeg:https://stillstandingeltonjohntribute.com/wp-content/uploads/2024/05/Waterview-Casino-and-Hotel.jpg
END:VEVENT
BEGIN:VEVENT
DTSTART;TZID=America/New_York:20240825T150000
DTEND;TZID=America/New_York:20240825T170000
DTSTAMP:20260425T225521
CREATED:20240514T232312Z
LAST-MODIFIED:20240516T144111Z
UID:10000203-1724598000-1724605200@stillstandingeltonjohntribute.com
SUMMARY:The Ritz Theatre
DESCRIPTION:Doors 2PM | Show 3-5PM
URL:https://stillstandingeltonjohntribute.com/calendar/the-ritz-theatre/
LOCATION:Ritz Theatre Brunswick\, 1530 Newcastle Street\, Brunswick\, GA\, 31520\, United States
CATEGORIES:Georgia
ATTACH;FMTTYPE=image/jpeg:https://stillstandingeltonjohntribute.com/wp-content/uploads/2024/05/Ritz_Brunswick.jpg
END:VEVENT
BEGIN:VEVENT
DTSTART;TZID=America/New_York:20240823T200000
DTEND;TZID=America/New_York:20240823T220000
DTSTAMP:20260425T225521
CREATED:20240624T185005Z
LAST-MODIFIED:20240714T214020Z
UID:10000209-1724443200-1724450400@stillstandingeltonjohntribute.com
SUMMARY:The "Fillin" Station Beaufort\, SC
DESCRIPTION:Show 8-10PM
URL:https://stillstandingeltonjohntribute.com/calendar/the-fillin-station-beaufort-sc/
LOCATION:The “Fillin” Station\, 57 Sea Island Pkwy\, Beaufort\, SC\, 29907\, United States
CATEGORIES:South Carolina
ATTACH;FMTTYPE=image/png:https://stillstandingeltonjohntribute.com/wp-content/uploads/2024/06/Fillin-Station-900-x-600-px-1.png
END:VEVENT
BEGIN:VEVENT
DTSTART;TZID=America/Chicago:20240817T190000
DTEND;TZID=America/Chicago:20240817T210000
DTSTAMP:20260425T225521
CREATED:20240311T230355Z
LAST-MODIFIED:20240519T225201Z
UID:10000193-1723921200-1723928400@stillstandingeltonjohntribute.com
SUMMARY:Georgiana Opry House
DESCRIPTION:Doors Open at 6 PM \nShowtime 7 – 9 PM \nPURCHASE TICKETS ONLINE\nhttps://www.georgianaopryhouse.com/event-details-registration/still-standing-elton-john-tribute \nTickets $20 (+ $.50 service fee)
URL:https://stillstandingeltonjohntribute.com/calendar/georgian-opry-house-presents-still-standing-a-tribute-to-elton-john/
LOCATION:Georgiana Opry House\, 602 E. Railroad Ave\, Georgiana\, AL\, 36033\, United States
CATEGORIES:Alabama
ATTACH;FMTTYPE=image/jpeg:https://stillstandingeltonjohntribute.com/wp-content/uploads/2024/03/Georgiana-Opry-House.jpg
END:VEVENT
BEGIN:VEVENT
DTSTART;TZID=America/New_York:20240816T200000
DTEND;TZID=America/New_York:20240816T220000
DTSTAMP:20260425T225521
CREATED:20240311T211543Z
LAST-MODIFIED:20240516T144306Z
UID:10000192-1723838400-1723845600@stillstandingeltonjohntribute.com
SUMMARY:Oconee Brewing Company presents the return of Still Standing a Tribute to Elton John
DESCRIPTION:
URL:https://stillstandingeltonjohntribute.com/calendar/oconee-brewing-company-presents-the-return-of-still-standing-a-tribute-to-elton-john/
LOCATION:Oconee Brewing Company\, 202 N. West Street\, Greensboro\, GA\, 30642\, United States
CATEGORIES:Georgia
ATTACH;FMTTYPE=image/jpeg:https://stillstandingeltonjohntribute.com/wp-content/uploads/2023/09/OCONNE.jpg
END:VEVENT
BEGIN:VEVENT
DTSTART;TZID=America/Chicago:20240810T193000
DTEND;TZID=America/Chicago:20240810T213000
DTSTAMP:20260425T225521
CREATED:20240515T003706Z
LAST-MODIFIED:20240516T144404Z
UID:10000204-1723318200-1723325400@stillstandingeltonjohntribute.com
SUMMARY:Jake & Henry's
DESCRIPTION:Doors at 6PM | Show 7:30-9:30PM
URL:https://stillstandingeltonjohntribute.com/calendar/jake-henrys-8/
LOCATION:Jake and Henry’s\, 138 Miracle Strip Pkwy SE\, Fort Walton Beach\, FL\, 32548\, United States
CATEGORIES:Florida
ATTACH;FMTTYPE=image/jpeg:https://stillstandingeltonjohntribute.com/wp-content/uploads/2022/09/jakeandhenrys.jpg
END:VEVENT
BEGIN:VEVENT
DTSTART;TZID=America/Chicago:20240709T190000
DTEND;TZID=America/Chicago:20240709T210000
DTSTAMP:20260425T225521
CREATED:20240209T004257Z
LAST-MODIFIED:20240516T144501Z
UID:10000189-1720551600-1720558800@stillstandingeltonjohntribute.com
SUMMARY:Pensacola Bands on the Beach
DESCRIPTION:Showtime 7PM – 9PM  Free admission \nAttendees are encouraged to arrive early and bring chairs\, blankets and coolers.  Please no glass containers.
URL:https://stillstandingeltonjohntribute.com/calendar/pensacola-bands-on-the-beach/
CATEGORIES:Florida
ATTACH;FMTTYPE=image/jpeg:https://stillstandingeltonjohntribute.com/wp-content/uploads/2024/02/bandsonthebeach.jpg
END:VEVENT
BEGIN:VEVENT
DTSTART;TZID=America/Chicago:20240625T210000
DTEND;TZID=America/Chicago:20240625T230000
DTSTAMP:20260425T225521
CREATED:20240302T195728Z
LAST-MODIFIED:20240427T194951Z
UID:10000191-1719349200-1719356400@stillstandingeltonjohntribute.com
SUMMARY:Aj's Seafood and Oyster Bar "Jumbotron" Concert Series
DESCRIPTION:Aj’s Seafood and Oyster Bar Jumbotron Tuesday Night Tribute Band Concert Series presents Still Standing a Tribute to Elton John
URL:https://stillstandingeltonjohntribute.com/calendar/ajs-seafood-and-oyster-bar-jumbotron-concert-series/
LOCATION:Aj’s Seafood and Oyster Bar\, 116 Harbor Blvd\, Destin\, FL\, 32541\, United States
CATEGORIES:Florida
ATTACH;FMTTYPE=image/jpeg:https://stillstandingeltonjohntribute.com/wp-content/uploads/2024/03/AJs.jpg
END:VEVENT
BEGIN:VEVENT
DTSTART;TZID=America/Chicago:20240617T190000
DTEND;TZID=America/Chicago:20240617T210000
DTSTAMP:20260425T225521
CREATED:20240513T025041Z
LAST-MODIFIED:20240516T144625Z
UID:10000200-1718650800-1718658000@stillstandingeltonjohntribute.com
SUMMARY:Rosemary Beach Summer Concert Series at St. Augustine Green
DESCRIPTION:Show 7-9PM
URL:https://stillstandingeltonjohntribute.com/calendar/rosemary-beach-summer-concert-series-at-st-augustine-green/
LOCATION:Rosemary Beach Summer Concert Series at St. Augustine Green\, 19 E. Kingston road\, Inlet Beach\, FL\, 32461\, United States
CATEGORIES:Florida
ATTACH;FMTTYPE=image/jpeg:https://stillstandingeltonjohntribute.com/wp-content/uploads/2024/05/st-augustine-on-the-green-inlet-beach.jpg
END:VEVENT
BEGIN:VEVENT
DTSTART;TZID=America/Chicago:20240614T193000
DTEND;TZID=America/Chicago:20240614T213000
DTSTAMP:20260425T225521
CREATED:20240411T164321Z
LAST-MODIFIED:20240516T143638Z
UID:10000196-1718393400-1718400600@stillstandingeltonjohntribute.com
SUMMARY:Kaleidoscope Theatre Lynn Haven\, FL
DESCRIPTION:Doors open at 6:30 PM \nShowtime 7:30 – 9:30 PM \nPurchase Tickets Online\nhttps://www.tix.com/ticket-sales/stillstandingeltonjohntribute/7503\nTickets $25
URL:https://stillstandingeltonjohntribute.com/calendar/kaleidoscope-theatre-lynn-haven-fl/
LOCATION:Kaleidoscope Theatre\, 207 E. 24th Street\, Panama City\, FL\, 32444\, United States
CATEGORIES:Florida
ATTACH;FMTTYPE=image/jpeg:https://stillstandingeltonjohntribute.com/wp-content/uploads/2024/04/kaleidescope.jpg
END:VEVENT
BEGIN:VEVENT
DTSTART;TZID=America/New_York:20240601T190000
DTEND;TZID=America/New_York:20240601T210000
DTSTAMP:20260425T225521
CREATED:20231116T000432Z
LAST-MODIFIED:20240416T195521Z
UID:10000179-1717268400-1717275600@stillstandingeltonjohntribute.com
SUMMARY:Stage West Playhouse
DESCRIPTION:Show 7 PM – 9 PM
URL:https://stillstandingeltonjohntribute.com/calendar/stage-west-playhouse/
LOCATION:Stage West Playhouse\, 8390 Forrest Oaks Blvd\, Spring Hill\, FL\, 34606\, United States
CATEGORIES:Florida
ATTACH;FMTTYPE=image/jpeg:https://stillstandingeltonjohntribute.com/wp-content/uploads/2023/11/stage-west.jpg
END:VEVENT
BEGIN:VEVENT
DTSTART;TZID=America/New_York:20240531T200000
DTEND;TZID=America/New_York:20240531T220000
DTSTAMP:20260425T225521
CREATED:20240502T000938Z
LAST-MODIFIED:20240505T163014Z
UID:10000199-1717185600-1717192800@stillstandingeltonjohntribute.com
SUMMARY:Cafe Eleven presents Still Standing a Tribute to Elton John
DESCRIPTION:
URL:https://stillstandingeltonjohntribute.com/calendar/cafe-eleven-presents-still-standing-a-tribute-to-elton-john/
LOCATION:Cafe Eleven\, 501 A1A Beach Blvd\,\, St. Augustine\, FL\, 32080\, United States
CATEGORIES:Florida
ATTACH;FMTTYPE=image/jpeg:https://stillstandingeltonjohntribute.com/wp-content/uploads/2024/05/cafe-eleven-logo.jpg
END:VEVENT
BEGIN:VEVENT
DTSTART;TZID=America/Chicago:20240510T190000
DTEND;TZID=America/Chicago:20240510T210000
DTSTAMP:20260425T225521
CREATED:20240205T212612Z
LAST-MODIFIED:20240205T212612Z
UID:10000185-1715367600-1715374800@stillstandingeltonjohntribute.com
SUMMARY:Warehouse 231
DESCRIPTION:Doors Open 6PM | Showtime 7PM \nTickets $10 Advance |  $15 day of show
URL:https://stillstandingeltonjohntribute.com/calendar/warehouse-231/
LOCATION:Warehouse 231
CATEGORIES:Alabama
ATTACH;FMTTYPE=image/jpeg:https://stillstandingeltonjohntribute.com/wp-content/uploads/2024/01/whearhouse231.jpg
END:VEVENT
BEGIN:VEVENT
DTSTART;TZID=America/New_York:20240509T210000
DTEND;TZID=America/New_York:20240509T230000
DTSTAMP:20260425T225521
CREATED:20231115T235028Z
LAST-MODIFIED:20240416T194857Z
UID:10000178-1715288400-1715295600@stillstandingeltonjohntribute.com
SUMMARY:Paloma Park Athens
DESCRIPTION:Show 9 PM – 11 PM
URL:https://stillstandingeltonjohntribute.com/calendar/paloma-park-athens/
LOCATION:Paloma Park\, 235 W. Washington Street\, Athens\, GA\, 30601\, United States
CATEGORIES:Georgia
ATTACH;FMTTYPE=image/jpeg:https://stillstandingeltonjohntribute.com/wp-content/uploads/2023/11/Paloma-Park.jpg
END:VEVENT
BEGIN:VEVENT
DTSTART;TZID=America/Chicago:20240505T180000
DTEND;TZID=America/Chicago:20240505T200000
DTSTAMP:20260425T225521
CREATED:20240321T140746Z
LAST-MODIFIED:20240321T140746Z
UID:10000194-1714932000-1714939200@stillstandingeltonjohntribute.com
SUMMARY:Blues on the Bay Pensacola
DESCRIPTION:Pack your coolers\, bring your lawn chairs and join us at the Hunter Amphitheater for the Blues Angel Music Blues on the Bay Concert Series
URL:https://stillstandingeltonjohntribute.com/calendar/blues-on-the-bay-pensacola-2/
LOCATION:Blues on the Bay Pensacola\, 301 W. Main Street\, Pensacola\, FL\, 32501\, United States
CATEGORIES:Florida
ATTACH;FMTTYPE=image/jpeg:https://stillstandingeltonjohntribute.com/wp-content/uploads/2022/03/Blues-on-the-Bay-Pensacola.jpg
END:VEVENT
BEGIN:VEVENT
DTSTART;TZID=America/Chicago:20240413T193000
DTEND;TZID=America/Chicago:20240413T213000
DTSTAMP:20260425T225521
CREATED:20231015T194700Z
LAST-MODIFIED:20231116T154357Z
UID:10000177-1713036600-1713043800@stillstandingeltonjohntribute.com
SUMMARY:Jake & Henry's
DESCRIPTION:Doors Open at 6 PM |  Showtime 7:30 PM \nBook your dinner reservations ahead of time.
URL:https://stillstandingeltonjohntribute.com/calendar/jake-henrys-7/
LOCATION:Jake and Henry’s\, 138 Miracle Strip Pkwy SE\, Fort Walton Beach\, FL\, 32548\, United States
CATEGORIES:Florida
ATTACH;FMTTYPE=image/jpeg:https://stillstandingeltonjohntribute.com/wp-content/uploads/2022/09/jakeandhenrys.jpg
END:VEVENT
BEGIN:VEVENT
DTSTART;TZID=America/Chicago:20240406T190000
DTEND;TZID=America/Chicago:20240406T210000
DTSTAMP:20260425T225521
CREATED:20230922T144306Z
LAST-MODIFIED:20231116T154421Z
UID:10000173-1712430000-1712437200@stillstandingeltonjohntribute.com
SUMMARY:Poydras Auditorium
DESCRIPTION:
URL:https://stillstandingeltonjohntribute.com/calendar/poydras-auditorium/
LOCATION:Poydras Auditorium\, 500 W. Main Street\, New Roads\, LA\, 70760\, United States
CATEGORIES:Louisiana
ATTACH;FMTTYPE=image/jpeg:https://stillstandingeltonjohntribute.com/wp-content/uploads/2023/10/Poydras-Auditorium-900600.jpg
END:VEVENT
BEGIN:VEVENT
DTSTART;TZID=UTC:20240323T193000
DTEND;TZID=UTC:20240323T213000
DTSTAMP:20260425T225521
CREATED:20230815T190840Z
LAST-MODIFIED:20240206T224232Z
UID:10000163-1711222200-1711229400@stillstandingeltonjohntribute.com
SUMMARY:OWA Theatre - Saturday
DESCRIPTION:Saturday\nMarch 23\, 2024\n7:30 PM – 9:30 PM\nDoors Open 6 PM\nTickets $34.99 – $44.99
URL:https://stillstandingeltonjohntribute.com/calendar/owa-theatre-saturday/
LOCATION:OWA Theatre Foley\, AL\, 205 N OWA Blvd\, Foley\, AL\, 36535\, United States
CATEGORIES:Alabama
ATTACH;FMTTYPE=image/jpeg:https://stillstandingeltonjohntribute.com/wp-content/uploads/2023/08/owa2024.jpg
END:VEVENT
BEGIN:VEVENT
DTSTART;TZID=America/Chicago:20240322T193000
DTEND;TZID=America/Chicago:20240322T213000
DTSTAMP:20260425T225521
CREATED:20230815T185338Z
LAST-MODIFIED:20240206T224142Z
UID:10000162-1711135800-1711143000@stillstandingeltonjohntribute.com
SUMMARY:OWA Theatre - Friday
DESCRIPTION:Two Shows: Friday & Saturday\n_________________________________________________ \nFriday\nMarch 22\, 2024\n7:30 PM – 9:30 PM\nDoors Open 6 PM\nTickets $34.99 – $44.99
URL:https://stillstandingeltonjohntribute.com/calendar/owa-theatre/
LOCATION:OWA Theatre Foley\, AL\, 205 N OWA Blvd\, Foley\, AL\, 36535\, United States
CATEGORIES:Alabama
ATTACH;FMTTYPE=image/jpeg:https://stillstandingeltonjohntribute.com/wp-content/uploads/2023/08/owa2024.jpg
END:VEVENT
BEGIN:VEVENT
DTSTART;TZID=America/New_York:20240316T143000
DTEND;TZID=America/New_York:20240316T210000
DTSTAMP:20260425T225521
CREATED:20231005T002444Z
LAST-MODIFIED:20231116T155830Z
UID:10000174-1710599400-1710622800@stillstandingeltonjohntribute.com
SUMMARY:School Street Playhouse
DESCRIPTION:Two Shows\nPerformance One  –  Doors Open: 1:30 PM    Start time: 2:30 PM     End time: 3:45 PM \nPerformance Two  –  Doors Open:  6:30 PM   Start Time: 7:30 PM    End time: 8:45 PM
URL:https://stillstandingeltonjohntribute.com/calendar/school-street-playhouse-2/
LOCATION:School Street Playhouse\, 101 School Street\, Cumming\, GA\, 30040\, United States
CATEGORIES:Georgia
ATTACH;FMTTYPE=image/jpeg:https://stillstandingeltonjohntribute.com/wp-content/uploads/2023/01/Schoold-Street-Playhouse-Cumming-Georgia.jpg
END:VEVENT
BEGIN:VEVENT
DTSTART;TZID=America/New_York:20240315T190000
DTEND;TZID=America/New_York:20240315T210000
DTSTAMP:20260425T225521
CREATED:20231116T152043Z
LAST-MODIFIED:20231116T155856Z
UID:10000181-1710529200-1710536400@stillstandingeltonjohntribute.com
SUMMARY:Coastal Grill & Chill
DESCRIPTION:Show 7 PM – 9 PM
URL:https://stillstandingeltonjohntribute.com/calendar/coastal-grill-chill/
LOCATION:Coastal Grill & Chill Roswell\, 10930 Crabapple road\, Roswell\, GA\, 30075\, United States
CATEGORIES:Georgia
ATTACH;FMTTYPE=image/jpeg:https://stillstandingeltonjohntribute.com/wp-content/uploads/2023/11/Coastal-Bar-and-Gril.jpg
END:VEVENT
END:VCALENDAR